BEGIN:VCALENDAR
VERSION:2.0
PRODID:-//Sighthill Bowling Club - ECPv6.15.20//NONSGML v1.0//EN
CALSCALE:GREGORIAN
METHOD:PUBLISH
X-ORIGINAL-URL:https://sighthillbc.co.uk
X-WR-CALDESC:Events for Sighthill Bowling Club
REFRESH-INTERVAL;VALUE=DURATION:PT1H
X-Robots-Tag:noindex
X-PUBLISHED-TTL:PT1H
BEGIN:VTIMEZONE
TZID:Europe/London
BEGIN:DAYLIGHT
TZOFFSETFROM:+0000
TZOFFSETTO:+0100
TZNAME:BST
DTSTART:20240331T010000
END:DAYLIGHT
BEGIN:STANDARD
TZOFFSETFROM:+0100
TZOFFSETTO:+0000
TZNAME:GMT
DTSTART:20241027T010000
END:STANDARD
BEGIN:DAYLIGHT
TZOFFSETFROM:+0000
TZOFFSETTO:+0100
TZNAME:BST
DTSTART:20250330T010000
END:DAYLIGHT
BEGIN:STANDARD
TZOFFSETFROM:+0100
TZOFFSETTO:+0000
TZNAME:GMT
DTSTART:20251026T010000
END:STANDARD
BEGIN:DAYLIGHT
TZOFFSETFROM:+0000
TZOFFSETTO:+0100
TZNAME:BST
DTSTART:20260329T010000
END:DAYLIGHT
BEGIN:STANDARD
TZOFFSETFROM:+0100
TZOFFSETTO:+0000
TZNAME:GMT
DTSTART:20261025T010000
END:STANDARD
END:VTIMEZONE
BEGIN:VEVENT
DTSTART;TZID=Europe/London:20251119T133000
DTEND;TZID=Europe/London:20251119T163000
DTSTAMP:20260424T145918
CREATED:20251027T101729Z
LAST-MODIFIED:20251027T101729Z
UID:10000012-1763559000-1763569800@sighthillbc.co.uk
SUMMARY:Jan's Music and Games Show
DESCRIPTION:Wednesday 19th November\, 1:30-4:30 \n 
URL:https://sighthillbc.co.uk/event/jans-music-and-games-show/
LOCATION:Sighthill B.C.\, 120 Sighthill Loan\, Edinburgh\, Midlothian\, EH11 4NT\, United Kingdom
ATTACH;FMTTYPE=image/jpeg:https://sighthillbc.co.uk/wp-content/uploads/2025/10/Messenger_creation_6339BD28-C2C9-45B0-A0CD-3B0C6F48D570.jpeg
GEO:55.9220908;-3.288622
X-APPLE-STRUCTURED-LOCATION;VALUE=URI;X-ADDRESS=Sighthill B.C. 120 Sighthill Loan Edinburgh Midlothian EH11 4NT United Kingdom;X-APPLE-RADIUS=500;X-TITLE=120 Sighthill Loan:geo:-3.288622,55.9220908
END:VEVENT
END:VCALENDAR