BEGIN:VCALENDAR
VERSION:2.0
PRODID:-//Sighthill Bowling Club - ECPv6.15.20//NONSGML v1.0//EN
CALSCALE:GREGORIAN
METHOD:PUBLISH
X-WR-CALNAME:Sighthill Bowling Club
X-ORIGINAL-URL:https://sighthillbc.co.uk
X-WR-CALDESC:Events for Sighthill Bowling Club
REFRESH-INTERVAL;VALUE=DURATION:PT1H
X-Robots-Tag:noindex
X-PUBLISHED-TTL:PT1H
BEGIN:VTIMEZONE
TZID:Europe/London
BEGIN:DAYLIGHT
TZOFFSETFROM:+0000
TZOFFSETTO:+0100
TZNAME:BST
DTSTART:20240331T010000
END:DAYLIGHT
BEGIN:STANDARD
TZOFFSETFROM:+0100
TZOFFSETTO:+0000
TZNAME:GMT
DTSTART:20241027T010000
END:STANDARD
BEGIN:DAYLIGHT
TZOFFSETFROM:+0000
TZOFFSETTO:+0100
TZNAME:BST
DTSTART:20250330T010000
END:DAYLIGHT
BEGIN:STANDARD
TZOFFSETFROM:+0100
TZOFFSETTO:+0000
TZNAME:GMT
DTSTART:20251026T010000
END:STANDARD
BEGIN:DAYLIGHT
TZOFFSETFROM:+0000
TZOFFSETTO:+0100
TZNAME:BST
DTSTART:20260329T010000
END:DAYLIGHT
BEGIN:STANDARD
TZOFFSETFROM:+0100
TZOFFSETTO:+0000
TZNAME:GMT
DTSTART:20261025T010000
END:STANDARD
END:VTIMEZONE
BEGIN:VEVENT
DTSTART;TZID=Europe/London:20251128T190000
DTEND;TZID=Europe/London:20251128T220000
DTSTAMP:20260424T145748
CREATED:20251117T031552Z
LAST-MODIFIED:20251117T032542Z
UID:10000023-1764356400-1764367200@sighthillbc.co.uk
SUMMARY:Stuart Colquhoun (Members Only)
DESCRIPTION:Friday night’s are quiet in the winter months so we thought we’d try to liven things up a little. See you in the lounge\, for the first of hopefully a few Winter Warmer Evenings\, no bingo\, just a cosy fire and a fella wi his guitar. As its the members lounge it will be limited to members with their guests. See you all there!!
URL:https://sighthillbc.co.uk/event/stuart-colquhoun-members-only/
LOCATION:Sighthill B.C.\, 120 Sighthill Loan\, Edinburgh\, Midlothian\, EH11 4NT\, United Kingdom
ATTACH;FMTTYPE=image/jpeg:https://sighthillbc.co.uk/wp-content/uploads/2025/11/stuart_colquhoun.jpeg
GEO:55.9220908;-3.288622
X-APPLE-STRUCTURED-LOCATION;VALUE=URI;X-ADDRESS=Sighthill B.C. 120 Sighthill Loan Edinburgh Midlothian EH11 4NT United Kingdom;X-APPLE-RADIUS=500;X-TITLE=120 Sighthill Loan:geo:-3.288622,55.9220908
END:VEVENT
END:VCALENDAR