BEGIN:VCALENDAR
VERSION:2.0
PRODID:-//Sighthill Bowling Club - ECPv6.15.20//NONSGML v1.0//EN
CALSCALE:GREGORIAN
METHOD:PUBLISH
X-WR-CALNAME:Sighthill Bowling Club
X-ORIGINAL-URL:https://sighthillbc.co.uk
X-WR-CALDESC:Events for Sighthill Bowling Club
REFRESH-INTERVAL;VALUE=DURATION:PT1H
X-Robots-Tag:noindex
X-PUBLISHED-TTL:PT1H
BEGIN:VTIMEZONE
TZID:Europe/London
BEGIN:DAYLIGHT
TZOFFSETFROM:+0000
TZOFFSETTO:+0100
TZNAME:BST
DTSTART:20240331T010000
END:DAYLIGHT
BEGIN:STANDARD
TZOFFSETFROM:+0100
TZOFFSETTO:+0000
TZNAME:GMT
DTSTART:20241027T010000
END:STANDARD
BEGIN:DAYLIGHT
TZOFFSETFROM:+0000
TZOFFSETTO:+0100
TZNAME:BST
DTSTART:20250330T010000
END:DAYLIGHT
BEGIN:STANDARD
TZOFFSETFROM:+0100
TZOFFSETTO:+0000
TZNAME:GMT
DTSTART:20251026T010000
END:STANDARD
BEGIN:DAYLIGHT
TZOFFSETFROM:+0000
TZOFFSETTO:+0100
TZNAME:BST
DTSTART:20260329T010000
END:DAYLIGHT
BEGIN:STANDARD
TZOFFSETFROM:+0100
TZOFFSETTO:+0000
TZNAME:GMT
DTSTART:20261025T010000
END:STANDARD
BEGIN:DAYLIGHT
TZOFFSETFROM:+0000
TZOFFSETTO:+0100
TZNAME:BST
DTSTART:20270328T010000
END:DAYLIGHT
BEGIN:STANDARD
TZOFFSETFROM:+0100
TZOFFSETTO:+0000
TZNAME:GMT
DTSTART:20271031T010000
END:STANDARD
END:VTIMEZONE
BEGIN:VEVENT
DTSTART;TZID=Europe/London:20251231T190000
DTEND;TZID=Europe/London:20260101T000000
DTSTAMP:20260424T124222
CREATED:20251031T164539Z
LAST-MODIFIED:20251107T044350Z
UID:10000022-1767207600-1767225600@sighthillbc.co.uk
SUMMARY:Hogmanay Party 2026
DESCRIPTION:Tickets on sale at the bar from 6.30pm tonight FRIDAY 31ST OCT. MEMBERS ONLY plus one guest per member. FOR JUST ONE WEEK. then  from Friday 7th November tickets will be open to non members £12 for the party of the year\, nibbles\, decorations\, raffle\, 3 bingo flyers amazing entertainment from Lee James. THE PERFECT END TO YOUR YEAR!\nAND PERFECT START TO 2026!
URL:https://sighthillbc.co.uk/event/hogmanay-party-2026/
LOCATION:Sighthill B.C.\, 120 Sighthill Loan\, Edinburgh\, Midlothian\, EH11 4NT\, United Kingdom
ATTACH;FMTTYPE=image/jpeg:https://sighthillbc.co.uk/wp-content/uploads/2025/10/Messenger_creation_1A5E7ED4-65AB-457F-AAB0-10F06DE3A515.jpeg
GEO:55.9220908;-3.288622
X-APPLE-STRUCTURED-LOCATION;VALUE=URI;X-ADDRESS=Sighthill B.C. 120 Sighthill Loan Edinburgh Midlothian EH11 4NT United Kingdom;X-APPLE-RADIUS=500;X-TITLE=120 Sighthill Loan:geo:-3.288622,55.9220908
END:VEVENT
END:VCALENDAR