BEGIN:VCALENDAR
VERSION:2.0
PRODID:-//Sighthill Bowling Club - ECPv6.15.20//NONSGML v1.0//EN
CALSCALE:GREGORIAN
METHOD:PUBLISH
X-WR-CALNAME:Sighthill Bowling Club
X-ORIGINAL-URL:https://sighthillbc.co.uk
X-WR-CALDESC:Events for Sighthill Bowling Club
REFRESH-INTERVAL;VALUE=DURATION:PT1H
X-Robots-Tag:noindex
X-PUBLISHED-TTL:PT1H
BEGIN:VTIMEZONE
TZID:Europe/London
BEGIN:DAYLIGHT
TZOFFSETFROM:+0000
TZOFFSETTO:+0100
TZNAME:BST
DTSTART:20240331T010000
END:DAYLIGHT
BEGIN:STANDARD
TZOFFSETFROM:+0100
TZOFFSETTO:+0000
TZNAME:GMT
DTSTART:20241027T010000
END:STANDARD
BEGIN:DAYLIGHT
TZOFFSETFROM:+0000
TZOFFSETTO:+0100
TZNAME:BST
DTSTART:20250330T010000
END:DAYLIGHT
BEGIN:STANDARD
TZOFFSETFROM:+0100
TZOFFSETTO:+0000
TZNAME:GMT
DTSTART:20251026T010000
END:STANDARD
BEGIN:DAYLIGHT
TZOFFSETFROM:+0000
TZOFFSETTO:+0100
TZNAME:BST
DTSTART:20260329T010000
END:DAYLIGHT
BEGIN:STANDARD
TZOFFSETFROM:+0100
TZOFFSETTO:+0000
TZNAME:GMT
DTSTART:20261025T010000
END:STANDARD
BEGIN:DAYLIGHT
TZOFFSETFROM:+0000
TZOFFSETTO:+0100
TZNAME:BST
DTSTART:20270328T010000
END:DAYLIGHT
BEGIN:STANDARD
TZOFFSETFROM:+0100
TZOFFSETTO:+0000
TZNAME:GMT
DTSTART:20271031T010000
END:STANDARD
END:VTIMEZONE
BEGIN:VEVENT
DTSTART;TZID=Europe/London:20251202T180000
DTEND;TZID=Europe/London:20251202T220000
DTSTAMP:20260424T123358
CREATED:20251027T120602Z
LAST-MODIFIED:20251027T134624Z
UID:10000014-1764698400-1764712800@sighthillbc.co.uk
SUMMARY:Bingo Evenings
DESCRIPTION:LADIES SECTION BINGO EVENINGS \nAdmission is £1 which includes a cup of tea/coffee & biscuit. We have a raffle and donations are greatly appreciated. Why not come along and join us. You would be most welcome. \nLast books 6.45pm \nBingo starts 7pm. \n 
URL:https://sighthillbc.co.uk/event/bingo-evenings-2/
LOCATION:Sighthill B.C.\, 120 Sighthill Loan\, Edinburgh\, Midlothian\, EH11 4NT\, United Kingdom
ATTACH;FMTTYPE=image/jpeg:https://sighthillbc.co.uk/wp-content/uploads/2025/10/bingo.jpeg
GEO:55.9220908;-3.288622
X-APPLE-STRUCTURED-LOCATION;VALUE=URI;X-ADDRESS=Sighthill B.C. 120 Sighthill Loan Edinburgh Midlothian EH11 4NT United Kingdom;X-APPLE-RADIUS=500;X-TITLE=120 Sighthill Loan:geo:-3.288622,55.9220908
END:VEVENT
BEGIN:VEVENT
DTSTART;TZID=Europe/London:20251213T190000
DTEND;TZID=Europe/London:20251214T000000
DTSTAMP:20260424T123358
CREATED:20251012T014404Z
LAST-MODIFIED:20251107T044304Z
UID:10000010-1765652400-1765670400@sighthillbc.co.uk
SUMMARY:Sandy Taylor
DESCRIPTION:Sandy has been working in the industry for over 48 years. Initially working as a session musician with a London studio where he worked with many top bands. Having toured in the USA and Canada\, he ended up working in Spain for 9 years. Currently he is still going strong playing guitars\, mandolin and saxophone. He plays everything from standards from 60s through to 00s to Rock to Ska and even Punk. \nA true professional and not to be missed.
URL:https://sighthillbc.co.uk/event/sandy-taylor/
LOCATION:Sighthill B.C.\, 120 Sighthill Loan\, Edinburgh\, Midlothian\, EH11 4NT\, United Kingdom
ATTACH;FMTTYPE=image/jpeg:https://sighthillbc.co.uk/wp-content/uploads/2025/07/sandy_taylor-e1760269108292.jpeg
GEO:55.9220908;-3.288622
X-APPLE-STRUCTURED-LOCATION;VALUE=URI;X-ADDRESS=Sighthill B.C. 120 Sighthill Loan Edinburgh Midlothian EH11 4NT United Kingdom;X-APPLE-RADIUS=500;X-TITLE=120 Sighthill Loan:geo:-3.288622,55.9220908
END:VEVENT
BEGIN:VEVENT
DTSTART;TZID=Europe/London:20251224T170000
DTEND;TZID=Europe/London:20251224T220000
DTSTAMP:20260424T123358
CREATED:20251027T151716Z
LAST-MODIFIED:20251027T151920Z
UID:10000020-1766595600-1766613600@sighthillbc.co.uk
SUMMARY:Family Christmas Eve Disco Party
DESCRIPTION:
URL:https://sighthillbc.co.uk/event/family-christmas-eve-disco-party/
LOCATION:Sighthill B.C.\, 120 Sighthill Loan\, Edinburgh\, Midlothian\, EH11 4NT\, United Kingdom
ATTACH;FMTTYPE=image/jpeg:https://sighthillbc.co.uk/wp-content/uploads/2025/10/Messenger_creation_6AD1B74D-9615-46A3-A405-7E423388958B.jpeg
GEO:55.9220908;-3.288622
X-APPLE-STRUCTURED-LOCATION;VALUE=URI;X-ADDRESS=Sighthill B.C. 120 Sighthill Loan Edinburgh Midlothian EH11 4NT United Kingdom;X-APPLE-RADIUS=500;X-TITLE=120 Sighthill Loan:geo:-3.288622,55.9220908
END:VEVENT
BEGIN:VEVENT
DTSTART;TZID=Europe/London:20251231T190000
DTEND;TZID=Europe/London:20260101T000000
DTSTAMP:20260424T123358
CREATED:20251031T164539Z
LAST-MODIFIED:20251107T044350Z
UID:10000022-1767207600-1767225600@sighthillbc.co.uk
SUMMARY:Hogmanay Party 2026
DESCRIPTION:Tickets on sale at the bar from 6.30pm tonight FRIDAY 31ST OCT. MEMBERS ONLY plus one guest per member. FOR JUST ONE WEEK. then  from Friday 7th November tickets will be open to non members £12 for the party of the year\, nibbles\, decorations\, raffle\, 3 bingo flyers amazing entertainment from Lee James. THE PERFECT END TO YOUR YEAR!\nAND PERFECT START TO 2026!
URL:https://sighthillbc.co.uk/event/hogmanay-party-2026/
LOCATION:Sighthill B.C.\, 120 Sighthill Loan\, Edinburgh\, Midlothian\, EH11 4NT\, United Kingdom
ATTACH;FMTTYPE=image/jpeg:https://sighthillbc.co.uk/wp-content/uploads/2025/10/Messenger_creation_1A5E7ED4-65AB-457F-AAB0-10F06DE3A515.jpeg
GEO:55.9220908;-3.288622
X-APPLE-STRUCTURED-LOCATION;VALUE=URI;X-ADDRESS=Sighthill B.C. 120 Sighthill Loan Edinburgh Midlothian EH11 4NT United Kingdom;X-APPLE-RADIUS=500;X-TITLE=120 Sighthill Loan:geo:-3.288622,55.9220908
END:VEVENT
END:VCALENDAR